BEGIN:VCALENDAR
VERSION:2.0
PRODID:-//پوهنتون زاول - ECPv6.0.6.2//NONSGML v1.0//EN
CALSCALE:GREGORIAN
METHOD:PUBLISH
X-ORIGINAL-URL:https://zawul.edu.af
X-WR-CALDESC:Events for پوهنتون زاول
REFRESH-INTERVAL;VALUE=DURATION:PT1H
X-Robots-Tag:noindex
X-PUBLISHED-TTL:PT1H
BEGIN:VTIMEZONE
TZID:UTC
BEGIN:STANDARD
TZOFFSETFROM:+0000
TZOFFSETTO:+0000
TZNAME:UTC
DTSTART:20240101T000000
END:STANDARD
END:VTIMEZONE
BEGIN:VEVENT
DTSTART;TZID=UTC:20241207T080000
DTEND;TZID=UTC:20241207T170000
DTSTAMP:20260421T194226
CREATED:20241207T061240Z
LAST-MODIFIED:20241207T061240Z
UID:8584-1733558400-1733590800@zawul.edu.af
SUMMARY:برگزاری سمینار آموزشی «کمره‌های امنیتی «(CCTV)
DESCRIPTION:دانشکده کمپیوتر ساینس مؤسسه تحصیلات عالی زاول با همکاری شرکت آیتکس و در راستای تطبیق مفاد تفاهم‌نامه همکاری مشترک و تقویت مهارت‌های علمی محصلین، ورکشاپ آموزشی تحت عنوان:  «کمره‌های امنیتی «(CCTV) را برگزار نمود. این برنامه آموزشی به مدت سه روز، از تاریخ 28/08/1403 تا 30/08/1403، در تالار مؤسسه تحصیلات عالی زاول، برگزار شد. \nارائه‌دهندگان: \n\nانجنیر سید یونس هاشمی\nانجنیر مهدی فرزام\n\nدر پایان این ورکشاپ، آزمونی از اشتراک‌کنندگان اخذ گردید و به افرادی که موفق به کسب نمرات قابل قبول شدند، تصدیقنامه (سرتفیکت) گردید. این ورکشاپ گامی مؤثر در راستای توسعه تخصصی محصلین و تقویت توانمندی‌های عملی آنان در زمینه تکنولوژی‌های امنیتی به شمار می‌رود.
URL:https://zawul.edu.af/event/%d8%a8%d8%b1%da%af%d8%b2%d8%a7%d8%b1%db%8c-%d8%b3%d9%85%db%8c%d9%86%d8%a7%d8%b1-%d8%a2%d9%85%d9%88%d8%b2%d8%b4%db%8c-%da%a9%d9%85%d8%b1%d9%87%d9%87%d8%a7%db%8c-%d8%a7%d9%85%d9%86%db%8c/
END:VEVENT
BEGIN:VEVENT
DTSTART;TZID=UTC:20241207T080000
DTEND;TZID=UTC:20241207T170000
DTSTAMP:20260421T194226
CREATED:20241207T061739Z
LAST-MODIFIED:20241207T061739Z
UID:8587-1733558400-1733590800@zawul.edu.af
SUMMARY:شریک سازی نتایج تحقیقات علمی ( نقش تحقیقات علمی بریاد گیری مؤثر در محیط دانشگاه)
DESCRIPTION:امروزچهارشنبه مورخ۷/۹/۱۴۰۳ برنامه‌ی تحت عنوان: شریک سازی نتایج تحقیقات علمی ( نقش تحقیقات علمی بریاد گیری مؤثر در محیط دانشگاه)؛ ازسوی ریاست پوهنحی طب معالجوی و آمریت تحقیقات علمی باهمکاری مرکز انکشاف مسلکی، با حضور هیئت رهبری، رئیسان پوهنحی ها، آمرین دیپارتمنت ها و استادان و دانشجویان در تالار مؤسسه تحصیلات عالی زاول، برگزار گردید. این برنامه‌ی علمی نخست با تلاوت آیات کلام الله مجید توسط قاری صاحب غفورالدین آغاز و متعاقبا دکترعبدالمنان کرانی معاون علمی مؤسسه با ابرازسپاسگزاری از برگزار کنندگان، گفت: دانشجویان هم باید تلاش کنند که در تحقیقات علمی سهم بگیرند. استاد کرانی با اشاره به برنامه های علمی مؤسسه افزود: تلاش می کنیم که زاول به حیث مرکزعلمی و تحقیقاتی درسطح ملی و بین المللی، تبارز کند. \nاستاد رحیم حسین حسینی آمر مرکز تحقیقات علمی مؤسسه با رائه‎ی گزارش ازجریان برگزاری سمینار ( د افغانستان په حان بسیاینه کی د پوهنتونون ونده) که از سوی پوهنتون ولایت کندز برگزار شده بود، گفت: تحقیقات علمی فرایند اخذ ندانستنی ها و یادگیری نیز یکی از واژه های پرتکرار در زندگی بشر است  و فرایند  تغییر و پیشرفت مستمر جامعه، در نتیجه‌ی تحقیقات، ممکن و میسر است. \nاستاد دکتر نقیب الله الفت رئیس مؤسسه تحصیلات عالی زاول، ضمن تشکری از اشتراک کنندگان برنامه و با اشاره به نقش دانشجویان در آینده جامعه، تصریح کرد: تدریس و تحقیق دو رویکردی است که دانشجویان از مؤسسه فرا می گیرند و می آموزند و یگانه راه انتقال علم به نسل های آینده، تحقیق است . استاد الفت تاکید کرد که افغانستان نسبت به هرچیز دیگر به علم و تحقیق بیشتر نیازمند است. در اخیر هم برنامه با دعاییه به پایان رسید.
URL:https://zawul.edu.af/event/%d8%b4%d8%b1%db%8c%da%a9-%d8%b3%d8%a7%d8%b2%db%8c-%d9%86%d8%aa%d8%a7%db%8c%d8%ac-%d8%aa%d8%ad%d9%82%db%8c%d9%82%d8%a7%d8%aa-%d8%b9%d9%84%d9%85%db%8c-%d9%86%d9%82%d8%b4-%d8%aa%d8%ad%d9%82%db%8c%d9%82/
END:VEVENT
END:VCALENDAR