BEGIN:VCALENDAR
VERSION:2.0
PRODID:-//پوهنتون زاول - ECPv6.0.6.2//NONSGML v1.0//EN
CALSCALE:GREGORIAN
METHOD:PUBLISH
X-WR-CALNAME:پوهنتون زاول
X-ORIGINAL-URL:https://zawul.edu.af
X-WR-CALDESC:Events for پوهنتون زاول
REFRESH-INTERVAL;VALUE=DURATION:PT1H
X-Robots-Tag:noindex
X-PUBLISHED-TTL:PT1H
BEGIN:VTIMEZONE
TZID:UTC
BEGIN:STANDARD
TZOFFSETFROM:+0000
TZOFFSETTO:+0000
TZNAME:UTC
DTSTART:14050101T000000
END:STANDARD
END:VTIMEZONE
BEGIN:VEVENT
DTSTART;TZID=UTC:14050106T080000
DTEND;TZID=UTC:14050106T170000
DTSTAMP:20260421T085308
CREATED:20260326T071247Z
LAST-MODIFIED:20260326T071247Z
UID:9695--17829216000--17829183600@zawul.edu.af
SUMMARY:Sayed Yasir Torabi
DESCRIPTION:Sayed Yasir Torabi\nTeaching assistant in Orthodontic department\nStomatology faculty\nSayed Yasir Torabi is a dentist and Teaching Assistant in the Orthodontic Department at the Stomatology Faculty\, Zawul University\, Afghanistan. He graduated with a dentistry degree from Kabul University of Medical Sciences with a GPA of 3.74 and has research experience in orthodontics\, prosthodontics\, and oral health. He has contributed to dental education and clinical practice through teaching and peer-reviewed research.\nPhone: +93 744973731\nAddress: 3rd District\, Kabul\, Afghanistan\nپوهنیار سید یاسر ترابی:\nپوهنیار سید یاسر ترابی، داکتر طب دندان (DMD) و عضو کادر علمی در دیپارتمنت ارتودنسی پوهنځی استوماتولوژی پوهنتون زاول، افغانستان است. وی از پوهنتون علوم طبی کابل با درجۀ طب دندان (DMD) فارغ‌التحصیل شده و دارای دو سال تجربهٔ تدریس می‌باشد. او تجربهٔ تحقیقاتی در زمینه‌های ارتودنسی، پروستودنتیکس و صحت دهن و دندان دارد و در پیشبرد آموزش طب دندان از طریق تدریس و تحقیقات علمی مشارکت فعال داشته است.\nشماره تماس :  ۹۳۷۴۴۹۷۳۷۳۱+\nآدرس: ناحیه ۳، کابل، افغانستان.
URL:https://zawul.edu.af/event/sayed-yasir-torabi/
END:VEVENT
END:VCALENDAR